BEGIN:VCALENDAR
VERSION:2.0
PRODID:-//Escobar Bikerstreet - ECPv6.15.20//NONSGML v1.0//EN
CALSCALE:GREGORIAN
METHOD:PUBLISH
X-WR-CALNAME:Escobar Bikerstreet
X-ORIGINAL-URL:https://escobar.moscow
X-WR-CALDESC:Мероприятия для Escobar Bikerstreet
REFRESH-INTERVAL;VALUE=DURATION:PT1H
X-Robots-Tag:noindex
X-PUBLISHED-TTL:PT1H
BEGIN:VTIMEZONE
TZID:Europe/Moscow
BEGIN:STANDARD
TZOFFSETFROM:+0300
TZOFFSETTO:+0300
TZNAME:MSK
DTSTART:20210101T000000
END:STANDARD
END:VTIMEZONE
BEGIN:VEVENT
DTSTART;TZID=Europe/Moscow:20221218T180000
DTEND;TZID=Europe/Moscow:20221218T180000
DTSTAMP:20260422T123401
CREATED:20221214T131354Z
LAST-MODIFIED:20221214T131354Z
UID:5438-1671386400-1671386400@escobar.moscow
SUMMARY:Прямые трансляции - Финальные матчи ЧМ- 2022 по футболу
DESCRIPTION:Уже в эти выходные ⚽\nФинальные матчи Чемпионата Мира — 2022 по футболу ! \nПриглашаем в Escobar на прямые трансляции с места событий — посмотреть захыватывающую развязку ЧМ и поболеть за любимые команды в кругу единомышленников и друзей \, в комфортной обстановке под отличные напитки и закуски ! \n🥉 17.12 суббота / 18:00 — матч за 3-е место \n🥇 18.12 воскресенье/ 18:00 — ФИНАЛ! \nДо встречи в Эскобаре!\n____\nБар Escobar: Москва\, ул.Сергия Радонежского 15-17 с17\nБронь столов по телефону: ☎+79995550087 \n 
URL:https://escobar.moscow/event/pryamye-translyaczii-finalnye-matchi-chm/
LOCATION:Escobar Bikerstreet\, ул. Сергия Радонежского\, 15-17 с 17\, Москва
CATEGORIES:прямая трансляция
ATTACH;FMTTYPE=image/jpeg:https://escobar.moscow/wp-content/uploads/2022/12/chempionat-mira-2022.jpg
END:VEVENT
END:VCALENDAR