BEGIN:VCALENDAR
VERSION:2.0
PRODID:-//Escobar Bikerstreet - ECPv6.15.20//NONSGML v1.0//EN
CALSCALE:GREGORIAN
METHOD:PUBLISH
X-WR-CALNAME:Escobar Bikerstreet
X-ORIGINAL-URL:https://escobar.moscow
X-WR-CALDESC:Мероприятия для Escobar Bikerstreet
REFRESH-INTERVAL;VALUE=DURATION:PT1H
X-Robots-Tag:noindex
X-PUBLISHED-TTL:PT1H
BEGIN:VTIMEZONE
TZID:Europe/Moscow
BEGIN:STANDARD
TZOFFSETFROM:+0300
TZOFFSETTO:+0300
TZNAME:MSK
DTSTART:20210101T000000
END:STANDARD
END:VTIMEZONE
BEGIN:VTIMEZONE
TZID:UTC
BEGIN:STANDARD
TZOFFSETFROM:+0000
TZOFFSETTO:+0000
TZNAME:UTC
DTSTART:20220101T000000
END:STANDARD
END:VTIMEZONE
BEGIN:VEVENT
DTSTART;TZID=Europe/Moscow:20250419T220000
DTEND;TZID=Europe/Moscow:20250419T220000
DTSTAMP:20260425T023926
CREATED:20220520T174901Z
LAST-MODIFIED:20250327T124609Z
UID:4719-1745100000-1745100000@escobar.moscow
SUMMARY:NH Band
DESCRIPTION:Эскобар представляет! \n19 апреля – NH Band! \nЭто мероприятие\, которое привлечёт внимание многочисленных ценителей блюза! В нашей стране совсем немного видных и интересных музыкантов этой направленности. Одними из них  являются участники группы Night Highway Band. \nИм не просто удалось доказать\, что такая музыка может оказаться близкой и доступной меломанам нашей страны\, но и из года в год демонстрировать удивительно профессиональные и яркие навыки такого исполнительства!\nПримечательно\, что основу их репертуара составляет мировая классика\, которая зачастую звучит в оригинальных и необычных аранжировках. Кроме того\, команда также исполняет и знаменитые произведения в стиле блюз-рок. \nКоллектив прекрасно разбирается в такой музыке. И поэтому в его исполнении зачастую звучат не только признанные шедевры жанра\, известные весьма широко на всём земном шаре\, но и достаточно редкие\, но интересные меломанам произведения. \nсбор гостей с 21:30 \, начало в 22:00 》》В продолжение вечера–  c 23:30  выступление группы 164 Band! \nДо встречи в Эскобаре !\n_____________\nБар Escobar: Москва\, ул.Сергия Радонежского 15-17 с17.\nВход: 1000р. (весь вечер) |18+\nРЕЗЕРВ / ИНФО : +79995550087
URL:https://escobar.moscow/event/nh-band-3/
LOCATION:Escobar Bikerstreet\, ул. Сергия Радонежского\, 15-17 с 17\, Москва
CATEGORIES:Концерт
ATTACH;FMTTYPE=image/jpeg:https://escobar.moscow/wp-content/uploads/2022/05/Escobar_19-apr_www.jpg
END:VEVENT
BEGIN:VEVENT
DTSTART;TZID=Europe/Moscow:20240919T213000
DTEND;TZID=Europe/Moscow:20240919T213000
DTSTAMP:20260425T023926
CREATED:20230608T080409Z
LAST-MODIFIED:20240822T155647Z
UID:6131-1726781400-1726781400@escobar.moscow
SUMMARY:BeJazz
DESCRIPTION:Эскобар представляет ! \n19 сентября  — BeJazz ! \nВсеми любимые мировые хиты и авторский материал в стиле джаз\, блюз\, фанк и рок от группы BeJazz! \nДо встречи в Эскобаре! \n_____\nБар Escobar: Москва\, ул.Сергия Радонежского 15-17 с17.\nВход свободный |18+\nРЕЗЕРВ | ИНФО : +79995550087 \n 
URL:https://escobar.moscow/event/bejazz-2/
LOCATION:Escobar Bikerstreet\, ул. Сергия Радонежского\, 15-17 с 17\, Москва
CATEGORIES:Концерт
ATTACH;FMTTYPE=image/jpeg:https://escobar.moscow/wp-content/uploads/2023/06/Escobar_19-sep_www.jpg
END:VEVENT
BEGIN:VEVENT
DTSTART;TZID=Europe/Moscow:20240627T210000
DTEND;TZID=Europe/Moscow:20240627T210000
DTSTAMP:20260425T023926
CREATED:20230728T081647Z
LAST-MODIFIED:20240529T114307Z
UID:6288-1719522000-1719522000@escobar.moscow
SUMMARY:GEMusic Experience
DESCRIPTION:Эскобар представляет! \n27 июня — GEMusic Experience ! \nГруппа «GEMusic Experience» была образована экс-гитаристом известной в 70- 80 годы фолк-джаз-рок группы «ГУНЕШ» и ​ легендарной в конце 60-х годов в Грузии тбилисской рок-группы ​ «БЕРМУХА» — Галатовым Евгением. \n​Дебют группы состоялся в ноябре 2019 года в московском рок​-клубе B.B.King.​ \nВ новый состав группы «GEMusic Experience» вошли ​:\nЛидер-гитара — Евгений Галатов\,\nУдарные — ​ Александр Тимченко\,\nБас-гитара — Игорь Яшуков; \nГруппа проповедует жесткий Blues — Rock​ — Funk в своей программе «Blues Rock Machine» \nДо встречи в Эскобаре ! \n___\nБар Escobar: Москва\, ул.Сергия Радонежского 15-17 с17.\nВход свободный |18+\nРЕЗЕРВ | ИНФО : +79995550087
URL:https://escobar.moscow/event/gemusic-experience/
LOCATION:Escobar Bikerstreet\, ул. Сергия Радонежского\, 15-17 с 17\, Москва
CATEGORIES:Концерт
ATTACH;FMTTYPE=image/jpeg:https://escobar.moscow/wp-content/uploads/2023/07/Escobar_27-june_www.jpg
END:VEVENT
BEGIN:VEVENT
DTSTART;TZID=Europe/Moscow:20240613T210000
DTEND;TZID=Europe/Moscow:20240613T210000
DTSTAMP:20260425T023926
CREATED:20220415T173553Z
LAST-MODIFIED:20240526T095609Z
UID:4619-1718312400-1718312400@escobar.moscow
SUMMARY:Вадим Иващенко & Boneshakers!
DESCRIPTION:Эскобар представляет! \n13 июня — Вадим Иващенко & The Boneshakers! \nThe Boneshakers- один из самых ярких московских составов\, выступающих в самых разных жанрах- рок-н-ролл\, блюз-рок\, фанк. \nВ репертуаре группы как классика мирового рок-наследия\, так и яркие авторские композиции. Мощный саунд и высокий профессионализм неизменно привлекают на концерты группы множество любителей качественной музыки! \nДо встречи в Эскобаре!\n_____\nБронь столов по т: +79995550087\nВход — свободный | 18+
URL:https://escobar.moscow/event/vadim-ivashenko-boneshakers/
LOCATION:Escobar Bikerstreet\, ул. Сергия Радонежского\, 15-17 с 17\, Москва
CATEGORIES:Концерт
ATTACH;FMTTYPE=image/jpeg:https://escobar.moscow/wp-content/uploads/2022/04/Escobar_13-june_For_restoclub.jpg
END:VEVENT
BEGIN:VEVENT
DTSTART;TZID=Europe/Moscow:20240418T210000
DTEND;TZID=Europe/Moscow:20240418T210000
DTSTAMP:20260425T023926
CREATED:20240324T105812Z
LAST-MODIFIED:20240324T105853Z
UID:7005-1713474000-1713474000@escobar.moscow
SUMMARY:Сергей Пахомов  & Blues Band
DESCRIPTION:Эскобар представляет! \n18 апреля — Сергей Пахомов & Blues Band! \nОрганизатор группы Сергей Пахомов-вокалист\,гитарист и композитор\,обладает сильным голосом\,в котором слышны интонации исполнителей чёрной музыки .\nСергей Пахомов выступал с концертами как в России \,так и в Европе. Все участники коллектива -яркие\,самобытные музыканты \,владеющие искусством импровизации.\nВ этот раз коллектив сыграет много танцевальных хитов в стиле Рок&Ролл \, Фанк\, Блюз … \nЕсли хотите получить заряд энергии и позитивное настроение — приходите на наш концерт! \nНачало в 21:00 | Вход свободный \nДо встречи в Эскобаре! \n___\nБар Escobar: Москва\, ул.Сергия Радонежского 15-17 с17.\nРЕЗЕРВ | ИНФО : +79995550087
URL:https://escobar.moscow/event/pakhomov-blues-band/
LOCATION:Escobar Bikerstreet\, ул. Сергия Радонежского\, 15-17 с 17\, Москва
CATEGORIES:Концерт
ATTACH;FMTTYPE=image/jpeg:https://escobar.moscow/wp-content/uploads/2024/03/AV-18-apr1.jpg
END:VEVENT
BEGIN:VEVENT
DTSTART;TZID=Europe/Moscow:20231201T230000
DTEND;TZID=Europe/Moscow:20231201T230000
DTSTAMP:20260425T023926
CREATED:20231124T082656Z
LAST-MODIFIED:20231124T082656Z
UID:6646-1701471600-1701471600@escobar.moscow
SUMMARY:COMPANETS & CO
DESCRIPTION:1 декабря — COMPANETS & CO \nCOMPANETS & CO — московская группа\, сформировавшаяся в 2020 году\, выступающая в направлениях hard rock и blues rock. \nЛидер команды — Алена Компанец\, вокалистка\, обладающая сильным многогранным голосом\, огненной харизмой и мощной подачей! \nКоманда представит громкую программу для любителей истинного матерого рока. Вы услышите рок-хиты известных команд: Led Zeppelin\, The Beatles\, AC/DC\, Guns N’ Roses\, Queen\, Roxette\, Deep Purple\, ZZ Top\, Rediohead\, The Cranberries и других. \nВиновник ярких гитарных соло\, настоящий виртуоз — Макс Попов. Стальной броней команды является ритм-секция: Василий Мотылец (бас) и Дмитрий Лобанов (барабаны). \nЖенский вокал в мужских песнях — это серьёзная заявочка. Песни любимых команд прозвучат точно по-новому\, но не менее пламенно! \nЭти ребята дадут вам понять\, что такое грувовый жар и блюзовое пламя\, именно они расскажут вам много блюзовых историй под звуки гитары! \nЕсли вы хотя бы раз были на концерте COMPANETS & CO\, то вы уже убедились — ОГНЯ НЕ ИЗБЕЖАТЬ! \nДо встречи в Эскобаре!\n_____\nБар Escobar: Москва\, ул.Сергия Радонежского 15-17 с17.\nРЕЗЕРВ | ИНФО : +79995550087
URL:https://escobar.moscow/event/companets-co/
LOCATION:Escobar Bikerstreet\, ул. Сергия Радонежского\, 15-17 с 17\, Москва
CATEGORIES:Концерт
ATTACH;FMTTYPE=image/jpeg:https://escobar.moscow/wp-content/uploads/2023/11/Escobar_1-dekabrya_For_www1.jpg
END:VEVENT
BEGIN:VEVENT
DTSTART;TZID=Europe/Moscow:20230921T210000
DTEND;TZID=Europe/Moscow:20230921T210000
DTSTAMP:20260425T023926
CREATED:20230618T192109Z
LAST-MODIFIED:20230911T093015Z
UID:6200-1695330000-1695330000@escobar.moscow
SUMMARY:Old Train Band!
DESCRIPTION:Эскобар представляет! \n21 сентября  — Old Train Band! \nOld Train Band» приглашает Вас принять участие в незабываемом музыкальном путешествии\, полного неожиданных приключений!\nВ основу репертуара коллектива положены классические стандарты\, а также оригинальные интерпретации произведений Jimi Hendrix\, Freddie Kind\, Albert King\, Stevie Ray Vaughan\, B.B. King\, ZZ Top и других мастеров жанра! \nДо встречи в Эскобаре ! \n___\nБар Escobar: Москва\, ул.Сергия Радонежского 15-17 с17.\nВход свободный |18+\nРЕЗЕРВ | ИНФО : +79995550087 \n 
URL:https://escobar.moscow/event/old-train-band/
LOCATION:Escobar Bikerstreet\, ул. Сергия Радонежского\, 15-17 с 17\, Москва
CATEGORIES:Концерт
ATTACH;FMTTYPE=image/jpeg:https://escobar.moscow/wp-content/uploads/2021/12/Escobar_21-sep-For_www.jpg
END:VEVENT
BEGIN:VEVENT
DTSTART;TZID=UTC:20230720T210000
DTEND;TZID=UTC:20230720T210000
DTSTAMP:20260425T023926
CREATED:20230326T124102Z
LAST-MODIFIED:20230618T121434Z
UID:5900-1689886800-1689886800@escobar.moscow
SUMMARY:Money Makers
DESCRIPTION:Эскобар представляет! \nВ четверг 20 июля  — Money Makers ! \nПроект «Мoney Makers­» —  это контрастное сочетание мелодичности блюза и соула семи­десятых с энергией рок-н-роллов пятидеся­тых и шестидесятых годов! \nАвторские комп­озиции и оригинальные версии известных хитов в новом звучани­и! \nДо встречи в Эскобаре!\n_\nБар Escobar: Москва\, ул.Сергия Радонежского 15-17 с17.\nВход свободный |18+\nРЕЗЕРВ | ИНФО : +79995550087
URL:https://escobar.moscow/event/money-makers/
LOCATION:Escobar Bikerstreet\, ул. Сергия Радонежского\, 15-17 с 17\, Москва
CATEGORIES:Концерт
ATTACH;FMTTYPE=image/jpeg:https://escobar.moscow/wp-content/uploads/2021/12/Escobar_20-july_For_restoclub.jpg
END:VEVENT
BEGIN:VEVENT
DTSTART;TZID=UTC:20230615T210000
DTEND;TZID=UTC:20230615T210000
DTSTAMP:20260425T023926
CREATED:20230201T153014Z
LAST-MODIFIED:20230603T090809Z
UID:5589-1686862800-1686862800@escobar.moscow
SUMMARY:BeJazz
DESCRIPTION:Эскобар представляет ! \n15   июня   — BeJazz ! \nВсеми любимые мировые хиты и авторский материал в стиле джаз\, блюз\, фанк и рок от группы BeJazz! \nВечер отличной музыки в Эскобаре! \n_____\nБар Escobar: Москва\, ул.Сергия Радонежского 15-17 с17.\nВход свободный |18+\nРЕЗЕРВ | ИНФО : +79995550087 \n 
URL:https://escobar.moscow/event/bejazz/
LOCATION:Escobar Bikerstreet\, ул. Сергия Радонежского\, 15-17 с 17\, Москва
CATEGORIES:Концерт
ATTACH;FMTTYPE=image/jpeg:https://escobar.moscow/wp-content/uploads/2023/02/Escobar_15-june_For_restoclub.jpg
END:VEVENT
BEGIN:VEVENT
DTSTART;TZID=Europe/Moscow:20220804T200000
DTEND;TZID=Europe/Moscow:20220805T000000
DTSTAMP:20260425T023926
CREATED:20220803T104006Z
LAST-MODIFIED:20220803T104006Z
UID:5054-1659643200-1659657600@escobar.moscow
SUMMARY:Блюзовый вечер от G.P.Blues.
DESCRIPTION:Эскобар представляет! \n4 августа — Блюзовый вечер от промо-группы G.P.Blues. \nG.P.Blues — группа единомышленников по организации мероприятий и продвижению социальных танцев таких как Блюз\, Линди-Хоп и Буги-Вуги.\nОтличная возможность провести вечер четверга в уютной атмосфере звуков блюза.  \nБудет весело и интересно! До встречи в Эскобаре!  \n__Бар Escobar: Москва\, ул.Сергия Радонежского 15-17 с17.\nВход свободный\nРЕЗЕРВ | ИНФО : +79995550087
URL:https://escobar.moscow/event/blyuzovyj-vecher-ot-g-p-blues/
LOCATION:Escobar Bikerstreet\, ул. Сергия Радонежского\, 15-17 с 17\, Москва
END:VEVENT
BEGIN:VEVENT
DTSTART;TZID=Europe/Moscow:20220428T210000
DTEND;TZID=Europe/Moscow:20220428T230000
DTSTAMP:20260425T023926
CREATED:20220423T190555Z
LAST-MODIFIED:20220423T190555Z
UID:4630-1651179600-1651186800@escobar.moscow
SUMMARY:Юрий Каверкин & Nothing Personal
DESCRIPTION:Эскобар представляет ! \n28 апреля — Юрий Каверкин & NOTHING PERSONAL 🎸🎶 \nЮрий Каверкин – известная фигура на московской блюзовой сцене. Как любой истинный блюзмен\, Юрий – самоучка\, с лихвой компенсирующий отсутствие музыкального образования ироничностью\, харизмой и потрясающим чувством стиля. Когда Каверкин начинает петь своим бархатным баритоном\, то\, совершенно не напрягаясь\, приводит публику в настоящий восторг. \nФирменный стиль Юрия Каверкина – блюзовая архаика с элементами тяжелого блюза. Он исполняет оригинальные кавер-версии известных блюзовых композиций Джона Ли Хукера\, Хаулин Вульфа\, Лайтнин Хопкинса\, Мадди Уотерса и других классиков жанра. Также в его репертуаре довольно много собственных композиций! \nДо встречи в Эскобаре !😎\n_______\nБронь столов по:\n☎ т: +79995550087\n🆓Вход — свободный
URL:https://escobar.moscow/event/yurij-kaverkin-nothing-personal-2/
LOCATION:Escobar Bikerstreet\, ул. Сергия Радонежского\, 15-17 с 17\, Москва
CATEGORIES:Концерт
END:VEVENT
BEGIN:VEVENT
DTSTART;TZID=Europe/Moscow:20220414T210000
DTEND;TZID=Europe/Moscow:20220414T230000
DTSTAMP:20260425T023926
CREATED:20220407T163020Z
LAST-MODIFIED:20220414T140414Z
UID:4598-1649970000-1649977200@escobar.moscow
SUMMARY:Новгородский ТРИО ! 
DESCRIPTION:ВНИМАНИЕ Изменение в программе — \n14 апреля — Новгородский ТРИО ! \nНАЧАЛО В 21:00 \nВ составе группы один из самых ярких современных гитаристов\, Юрий Новгородский (лидер группы Backstage и участник Lunar Brothers)\, зажигательная вокалистка и виртуозная клавишница Лена Шери и настоящий мастер перкуссии (барабанщик The Crossroadz)\, Владимир Воеводин. \nMUST SEE! До встречи в Эскобаре! \n  \n__\nБронь столов по т: +79995550087\nВход — свободный | 18+
URL:https://escobar.moscow/event/voronov-quartet-3/
LOCATION:Escobar Bikerstreet\, ул. Сергия Радонежского\, 15-17 с 17\, Москва
CATEGORIES:Концерт
END:VEVENT
BEGIN:VEVENT
DTSTART;TZID=Europe/Moscow:20220407T210000
DTEND;TZID=Europe/Moscow:20220407T230000
DTSTAMP:20260425T023926
CREATED:20220403T150215Z
LAST-MODIFIED:20220403T150252Z
UID:4584-1649365200-1649372400@escobar.moscow
SUMMARY:Lena Shery
DESCRIPTION:Эскобар представляет! \n7 апреля — Lena Shery ! \nLena Shery (Лэйна Шери) — певица\, пианистка\, автор песен и аранжировщик — уникальная в своём роде\, аккомпанирующая солистка-пианистка\, которая владеет репертуаром в широком спектре стилей и направлений\, внося в звучание свой колорит\, который содержит элементы от блюза и фанка до академической классики. \nХорошая музыка и отличное настроение ждут вас в Эскобаре! До встречи!\n__\nБронь столов по т: +79995550087\nВход — свободный
URL:https://escobar.moscow/event/lena-shery-2/
LOCATION:Escobar Bikerstreet\, ул. Сергия Радонежского\, 15-17 с 17\, Москва
END:VEVENT
END:VCALENDAR