BEGIN:VCALENDAR
VERSION:2.0
PRODID:-//Escobar Bikerstreet - ECPv6.15.20//NONSGML v1.0//EN
CALSCALE:GREGORIAN
METHOD:PUBLISH
X-ORIGINAL-URL:https://escobar.moscow
X-WR-CALDESC:Мероприятия для Escobar Bikerstreet
REFRESH-INTERVAL;VALUE=DURATION:PT1H
X-Robots-Tag:noindex
X-PUBLISHED-TTL:PT1H
BEGIN:VTIMEZONE
TZID:Europe/Moscow
BEGIN:STANDARD
TZOFFSETFROM:+0300
TZOFFSETTO:+0300
TZNAME:MSK
DTSTART:20210101T000000
END:STANDARD
END:VTIMEZONE
BEGIN:VEVENT
DTSTART;TZID=Europe/Moscow:20220917T220000
DTEND;TZID=Europe/Moscow:20220918T050000
DTSTAMP:20260422T180417
CREATED:20220609T145619Z
LAST-MODIFIED:20220910T130016Z
UID:4818-1663452000-1663477200@escobar.moscow
SUMMARY:Дядя Ваня &  DJ Константин Михайлов (MAXIMUM) -Рок-дискотека Rock of Ages
DESCRIPTION:Escobar представляет! \nВ субботу 17 сентября будем отрываться по полной — нас ждёт убойная рок-вечеринка ! \nС 22.00 — на нашей сцене — певец\, музыкант\, шоу-мен\, байкер Иван Вабищевич и его группа ДЯДЯ ВАНЯ! \nЗатем нас ждёт настоящий рок-отрыв — впервые в Эскобаре \, да и вообще впервые !  — Cовместный сет Дяди Вани и ведущего радио MAXIMUM — DJ Константина Михайлова! \nИ продолжится все это безудержное рок-веселье до самого утра вместе с DJ Константином Михайловым и легендарной рок-вечеринкой Rock of Ages — все самые мощные и огненные рок-хиты 90’\, 00’\, 10’ и 20-х годов ! \nВ общем\, готовьтесь\, будем жечь всю ночь! Let`s Rock! До встречи в Эскобаре! \n_\nБар Escobar: Москва\, ул.Сергия Радонежского 15-17 с17.\nВход свободный |18+\nРЕЗЕРВ | ИНФО : +79995550087
URL:https://escobar.moscow/event/rok-diskoteka-rock-of-ages-dj-konstantin-mihajlo/
LOCATION:Escobar Bikerstreet\, ул. Сергия Радонежского\, 15-17 с 17\, Москва
CATEGORIES:Концерт
END:VEVENT
END:VCALENDAR