BEGIN:VCALENDAR
VERSION:2.0
PRODID:-//Escobar Bikerstreet - ECPv6.15.20//NONSGML v1.0//EN
CALSCALE:GREGORIAN
METHOD:PUBLISH
X-WR-CALNAME:Escobar Bikerstreet
X-ORIGINAL-URL:https://escobar.moscow
X-WR-CALDESC:Мероприятия для Escobar Bikerstreet
REFRESH-INTERVAL;VALUE=DURATION:PT1H
X-Robots-Tag:noindex
X-PUBLISHED-TTL:PT1H
BEGIN:VTIMEZONE
TZID:Europe/Moscow
BEGIN:STANDARD
TZOFFSETFROM:+0300
TZOFFSETTO:+0300
TZNAME:MSK
DTSTART:20240101T000000
END:STANDARD
END:VTIMEZONE
BEGIN:VEVENT
DTSTART;TZID=Europe/Moscow:20251130T150000
DTEND;TZID=Europe/Moscow:20251130T150000
DTSTAMP:20260420T032744
CREATED:20230509T131347Z
LAST-MODIFIED:20251124T055424Z
UID:6034-1764514800-1764514800@escobar.moscow
SUMMARY:Концерт рок-школы  «Красный химик»
DESCRIPTION:30 ноября – Легендарная старейшая рок-школа страны «Красный Химик» приглашает на отчётный концерт учеников! \nНачало в 15:00\nВход свободный \nДо встречи в Эскобаре! \n_______\nБар Escobar: Москва\, ул. Сергия Радонежского д. 15-17\, с.17.\nРЕЗЕРВ/ИНФО: т: +79995550087 \n 
URL:https://escobar.moscow/event/red-himik/
LOCATION:Escobar Bikerstreet\, ул. Сергия Радонежского\, 15-17 с 17\, Москва
CATEGORIES:Концерт,творческий вечер
ATTACH;FMTTYPE=image/jpeg:https://escobar.moscow/wp-content/uploads/2023/05/30-nov-www.jpg
END:VEVENT
END:VCALENDAR