BEGIN:VCALENDAR
VERSION:2.0
PRODID:-//Escobar Bikerstreet - ECPv6.15.20//NONSGML v1.0//EN
CALSCALE:GREGORIAN
METHOD:PUBLISH
X-WR-CALNAME:Escobar Bikerstreet
X-ORIGINAL-URL:https://escobar.moscow
X-WR-CALDESC:Мероприятия для Escobar Bikerstreet
REFRESH-INTERVAL;VALUE=DURATION:PT1H
X-Robots-Tag:noindex
X-PUBLISHED-TTL:PT1H
BEGIN:VTIMEZONE
TZID:Europe/Moscow
BEGIN:STANDARD
TZOFFSETFROM:+0300
TZOFFSETTO:+0300
TZNAME:MSK
DTSTART:20210101T000000
END:STANDARD
END:VTIMEZONE
BEGIN:VEVENT
DTSTART;TZID=Europe/Moscow:20221118T210000
DTEND;TZID=Europe/Moscow:20221118T210000
DTSTAMP:20260424T172029
CREATED:20220821T093154Z
LAST-MODIFIED:20221112T153715Z
UID:5107-1668805200-1668805200@escobar.moscow
SUMMARY:ShilOFFband! 
DESCRIPTION:Эскобар представляет! \nВ пятницу 18 ноября — ShilOFFband! \nShiloffband — горячая смесь из текстов и музыки\, эмоций и энергии\, полное погружение в стихию рока\, панка и ска\, цунами звука и ураганная подача\, которая не оставит вас равнодушным! \nБудет весело! До встречи в Эскобаре! \nБар Escobar: Москва\, ул.Сергия Радонежского 15-17 с17.\nВход свободный |18+\nРЕЗЕРВ | ИНФО : +79995550087
URL:https://escobar.moscow/event/shiloffband/
LOCATION:Escobar Bikerstreet\, ул. Сергия Радонежского\, 15-17 с 17\, Москва
CATEGORIES:Концерт
END:VEVENT
END:VCALENDAR