BEGIN:VCALENDAR
VERSION:2.0
PRODID:-//Escobar Bikerstreet - ECPv6.15.20//NONSGML v1.0//EN
CALSCALE:GREGORIAN
METHOD:PUBLISH
X-ORIGINAL-URL:https://escobar.moscow
X-WR-CALDESC:Мероприятия для Escobar Bikerstreet
REFRESH-INTERVAL;VALUE=DURATION:PT1H
X-Robots-Tag:noindex
X-PUBLISHED-TTL:PT1H
BEGIN:VTIMEZONE
TZID:Europe/Moscow
BEGIN:STANDARD
TZOFFSETFROM:+0300
TZOFFSETTO:+0300
TZNAME:MSK
DTSTART:20220101T000000
END:STANDARD
END:VTIMEZONE
BEGIN:VEVENT
DTSTART;TZID=Europe/Moscow:20230406T210000
DTEND;TZID=Europe/Moscow:20230406T230000
DTSTAMP:20260423T235916
CREATED:20220430T084602Z
LAST-MODIFIED:20230324T123711Z
UID:4663-1680814800-1680822000@escobar.moscow
SUMMARY:The City Sailors! Акустика
DESCRIPTION:Эскобар представляет! \nВ четверг  6 апреля  —»The City Sailors» — акустика \nЭта зажигательная русско-кубинская группа поёт в стиле соул/поп/рок. \nВас ждет множество любимых песен на испанском\, английском\, русском языке. \nЭти ребята не оставят никого равнодушными и обеспечат вас отличным настроением! \nВход свободный! \nДо встречи в Эскобаре! \n__\nВход свободный |18+\nБронь столов по телефону:\n☎+79995550087
URL:https://escobar.moscow/event/the-city-sailors-akustika/
LOCATION:Escobar Bikerstreet\, ул. Сергия Радонежского\, 15-17 с 17\, Москва
CATEGORIES:Концерт
ATTACH;FMTTYPE=image/jpeg:https://escobar.moscow/wp-content/uploads/2022/03/Escobar_6-apr_For_restoclub.jpg
END:VEVENT
END:VCALENDAR