BEGIN:VCALENDAR
VERSION:2.0
PRODID:-//Escobar Bikerstreet - ECPv6.15.20//NONSGML v1.0//EN
CALSCALE:GREGORIAN
METHOD:PUBLISH
X-ORIGINAL-URL:https://escobar.moscow
X-WR-CALDESC:Мероприятия для Escobar Bikerstreet
REFRESH-INTERVAL;VALUE=DURATION:PT1H
X-Robots-Tag:noindex
X-PUBLISHED-TTL:PT1H
BEGIN:VTIMEZONE
TZID:Europe/Moscow
BEGIN:STANDARD
TZOFFSETFROM:+0300
TZOFFSETTO:+0300
TZNAME:MSK
DTSTART:20250101T000000
END:STANDARD
END:VTIMEZONE
BEGIN:VEVENT
DTSTART;TZID=Europe/Moscow:20260430T220000
DTEND;TZID=Europe/Moscow:20260430T233000
DTSTAMP:20260426T023818
CREATED:20231124T110455Z
LAST-MODIFIED:20260326T110426Z
UID:6653-1777586400-1777591800@escobar.moscow
SUMMARY:Кавер-бэнд СОТКА
DESCRIPTION:Купить билет\n \n30 апреля – Кавер-бэнд СОТКА!\nЭти бодрые харизматичные парни\, своей бешеной энергетикой​ рвут любой танцпол! \nПриходи и оторвись по полной под свои любимые треки\, до встречи в Эскобаре! \n__\nБар ESCOBAR\nМосква\, ул. Сергия Радонежского д. 15-17\, с.17.\nРЕЗЕРВ/ИНФО: +79995550087 \n \n 
URL:https://escobar.moscow/event/sotka/
LOCATION:Escobar Bikerstreet\, ул. Сергия Радонежского\, 15-17 с 17\, Москва
CATEGORIES:Концерт
ATTACH;FMTTYPE=image/jpeg:https://escobar.moscow/wp-content/uploads/2023/11/30-apr-www-1.jpg
END:VEVENT
BEGIN:VEVENT
DTSTART;TZID=Europe/Moscow:20260510T220000
DTEND;TZID=Europe/Moscow:20260510T233000
DTSTAMP:20260426T023818
CREATED:20260413T092045Z
LAST-MODIFIED:20260413T093509Z
UID:9957-1778450400-1778455800@escobar.moscow
SUMMARY:LiRikA – хиты русского рока!
DESCRIPTION:Купить билет\n \n  \nЭскобар представляет! \n10 мая – LiRikA\nЛучшие хиты русского рока  в исполнении группы LiRikA! \nСбор гостей с 21:30\, начало в 22:00 \nДо встречи в Эскобаре! \n_____ \nБар ESCOBAR\nМосква\, ул. Сергия Радонежского д. 15-17\, с.17.\nРЕЗЕРВ/ИНФО: т: +79995550087
URL:https://escobar.moscow/event/lirika-hity-russkogo-roka-3/
LOCATION:Escobar Bikerstreet\, ул. Сергия Радонежского\, 15-17 с 17\, Москва
CATEGORIES:Концерт
ATTACH;FMTTYPE=image/jpeg:https://escobar.moscow/wp-content/uploads/2026/04/escobar_10-maya_www.jpg
END:VEVENT
BEGIN:VEVENT
DTSTART;TZID=Europe/Moscow:20260515T220000
DTEND;TZID=Europe/Moscow:20260515T233000
DTSTAMP:20260426T023818
CREATED:20260227T134650Z
LAST-MODIFIED:20260417T112624Z
UID:9694-1778882400-1778887800@escobar.moscow
SUMMARY:Dark Secret Love | tribute to Metallica
DESCRIPTION:Купить билет\n \nЭскобар представляет! \n15 мая – Dark Secret Love \nЛучшие хиты легендарной группы Metallica в исполнении мощнейших Dark Secret Love! \nСбор гостей с 21:30\, начало концерта в 22:00 \n》》 После концерта – Дискотека\, отдыхаем и танцуем до  утра! \nБронируйте столики заранее! До встречи в Эскобаре! \n_____ \nБар ESCOBAR\nМосква\, ул. Сергия Радонежского д. 15-17\, с.17.\nРЕЗЕРВ/ИНФО: т: +79995550087
URL:https://escobar.moscow/event/dark-secret-love-tribute-to-metallica/
LOCATION:Escobar Bikerstreet\, ул. Сергия Радонежского\, 15-17 с 17\, Москва
CATEGORIES:Концерт
ATTACH;FMTTYPE=image/jpeg:https://escobar.moscow/wp-content/uploads/2026/02/escobar_15-maya-www.jpg
END:VEVENT
BEGIN:VEVENT
DTSTART;TZID=Europe/Moscow:20260516T220000
DTEND;TZID=Europe/Moscow:20260516T233000
DTSTAMP:20260426T023818
CREATED:20260417T113322Z
LAST-MODIFIED:20260417T120523Z
UID:10146-1778968800-1778974200@escobar.moscow
SUMMARY:JAWA – легендарные хиты группы «Сектор Газа»
DESCRIPTION:Купить билет\n \nЭскобар представляет! \n16 мая – JAWA!\nПроект гитариста «золотого» состава группы «Сектор Газа» – Владимир Лобанов и группа JAWA! \nВ выступлении примет участие специальный гость и непосредственный участник группы «Сектор Газа» – Татьяна Фатеева! \nКаждое выступление группы посвящается бессменному лидеру Юрию Клинских (ХОЙ) и всем музыкантам\, принимавшим участие в грандиозном проекте «Сектор Газа».В большой концертной программе прозвучат лучшие хиты проверенные временем! \nЭто уникальная возможность ненадолго уйти от действительности в эпоху бесшабашных 90-х!  До встречи в Эскобаре! \nСбор гостей с 21:30\, начало концерта в 22:00 \n》》 После концерта – Дискотека\, отдыхаем и танцуем до  утра! \nБронируйте столики заранее! До встречи в Эскобаре! \n_____ \nБар ESCOBAR\nМосква\, ул. Сергия Радонежского д. 15-17\, с.17.\nРЕЗЕРВ/ИНФО: т: +79995550087
URL:https://escobar.moscow/event/jawa-legendarnye-hity-gruppy-sektor-gaza/
LOCATION:Escobar Bikerstreet\, ул. Сергия Радонежского\, 15-17 с 17\, Москва
CATEGORIES:Концерт
ATTACH;FMTTYPE=image/jpeg:https://escobar.moscow/wp-content/uploads/2026/04/escobar_16-maya_www.jpg
END:VEVENT
BEGIN:VEVENT
DTSTART;TZID=Europe/Moscow:20260522T220000
DTEND;TZID=Europe/Moscow:20260522T220000
DTSTAMP:20260426T023818
CREATED:20260422T101446Z
LAST-MODIFIED:20260425T131116Z
UID:10166-1779487200-1779487200@escobar.moscow
SUMMARY:Art Cover Band & Kailas Rock – Вечер мирового рока!
DESCRIPTION:Купить билет\n \n22 мая – Вечер мирового рока | Art Cover Band & Kailas Rock! \nДва мощнейших коллектива\, одна сцена и море легендарных хитов. \nART COVER BAND – Мощь и драйв культового рока! \nПогружение в золотую эру хард-рока и хэви-метала. Группа обрушит на вас шквал суперхитов от AC/DC\, Bon Jovi\, Nazareth\, ZZ Top\, Van Halen\, Europe\, Whitesnake\, Kiss и других! \nВокалист – участник проекта ГОЛОС12 и рок-оперы «Орфей»\, мюзикла «Времена Соборов» Николай Орлов! \nKAILAS ROCK  – Московская группа\, которая укрощает хиты всех мастей — от британской классики 70-х до американской альтернативы 2000-х. Guns N’ Roses\, Deep Purple\, Led Zeppelin\, Roxette и многие др… \nКайлас рок – это убойный коктейль из мощного женского вокала\, сногсшибательных гитарных партий и бешеной энергии\, способной растопить даже лёд! \nБерите друзей\,  занимайте лучшие места и до встречи в Эскобаре! \n________\nБар ESCOBAR\nМосква\, ул. Сергия Радонежского д. 15-17\, с.17.\nРЕЗЕРВ/ИНФО: +79995550087
URL:https://escobar.moscow/event/art-cover-band-kailas-rock-vecher-mirovogo-roka/
LOCATION:Escobar Bikerstreet\, ул. Сергия Радонежского\, 15-17 с 17\, Москва
CATEGORIES:Концерт
ATTACH;FMTTYPE=image/jpeg:https://escobar.moscow/wp-content/uploads/2026/04/22-maya-www.jpg
END:VEVENT
BEGIN:VEVENT
DTSTART;TZID=Europe/Moscow:20260523T220000
DTEND;TZID=Europe/Moscow:20260523T233000
DTSTAMP:20260426T023818
CREATED:20220313T101753Z
LAST-MODIFIED:20260422T104609Z
UID:4531-1779573600-1779579000@escobar.moscow
SUMMARY:Кайман
DESCRIPTION:Купить билет\n \nЭскобар представляет! \n23 мая  – КАЙМАН!\nВ репертуаре коллектива все величайшие композиции от Jimi Hendrix и The Rolling Stones до Ozzy Osbourne и Deep Purple. \nЗолотые рок-хиты в мастерском исполнении заставят Вас оторваться на все 100%! \nСбор гостей с 21:30\, начало в 22:00 \nНачало концерта в 22:00 》в продолжение вечера с 23:30 \n》 Рок-дискотека Rock of Ages с DJ Константином Михайловым (Maximum) \nДо встречи в Эскобаре! \n_____ \nБар ESCOBAR\nМосква\, ул. Сергия Радонежского д. 15-17\, с.17.\nРЕЗЕРВ/ИНФО: т: +79995550087
URL:https://escobar.moscow/event/kajman/
LOCATION:Escobar Bikerstreet\, ул. Сергия Радонежского\, 15-17 с 17\, Москва
CATEGORIES:Концерт
ATTACH;FMTTYPE=image/jpeg:https://escobar.moscow/wp-content/uploads/2022/03/escobar-23-maya_www.jpg
END:VEVENT
BEGIN:VEVENT
DTSTART;TZID=Europe/Moscow:20260523T233000
DTEND;TZID=Europe/Moscow:20260523T233000
DTSTAMP:20260426T023818
CREATED:20221016T182648Z
LAST-MODIFIED:20260424T155610Z
UID:5256-1779579000-1779579000@escobar.moscow
SUMMARY:Рок-дискотека  –  Rock of Ages  |  DJ Константин Михайлов (Maximum)
DESCRIPTION:Купить билет\n \n23 мая  с 23:30 – Рок-дискотека Rock of Ages!\nСамые мощные и огненные рок-хиты всех времен в одну ночь от ведущего радио MAXIMUM – DJ Константина Михайлова!\nОтличная возможность оторваться по полной и протанцевать всю ночь до упаду! Не пропустите! ‍ \nначало в 23:30 | 18+ \n》ранее в этот вечер – 22:00 выступление группы Кайман \nДо встречи в Эскобаре!\n_____ \nБар ESCOBAR\nМосква\, ул. Сергия Радонежского д. 15-17\, с.17.\nРЕЗЕРВ/ИНФО: +79995550087
URL:https://escobar.moscow/event/rock-of-ages/
LOCATION:Escobar Bikerstreet\, ул. Сергия Радонежского\, 15-17 с 17\, Москва
CATEGORIES:вечеринка
ATTACH;FMTTYPE=image/jpeg:https://escobar.moscow/wp-content/uploads/2022/10/escobar_23-maya_disco-for_www.jpg
END:VEVENT
BEGIN:VEVENT
DTSTART;TZID=Europe/Moscow:20260530T220000
DTEND;TZID=Europe/Moscow:20260530T233000
DTSTAMP:20260426T023818
CREATED:20260424T103846Z
LAST-MODIFIED:20260424T122129Z
UID:10186-1780178400-1780183800@escobar.moscow
SUMMARY:Soul Stripper
DESCRIPTION:Купить билет\n \n30 мая – Soul Stripper !\nВстречаем лето под легендарные рок-хиты в исполнении группы Soul Stripper! \nСбор гостей с 21:30\, начало в 22:00 \nЭто будет вечер\, наполненный энергией\, страстью и романтикой!\nБронируйте столики заранее ! До встречи в Эскобаре!\n_____ \nБар ESCOBAR\nМосква\, ул. Сергия Радонежского д. 15-17\, с.17.\nРЕЗЕРВ/ИНФО: т: +79995550087
URL:https://escobar.moscow/event/soul-stripper-3/
LOCATION:Escobar Bikerstreet\, ул. Сергия Радонежского\, 15-17 с 17\, Москва
CATEGORIES:Концерт
ATTACH;FMTTYPE=image/jpeg:https://escobar.moscow/wp-content/uploads/2026/04/30-maya-www.jpg
END:VEVENT
END:VCALENDAR